Workbook
Name Validation_List: OFFSET([1]VALIDATION_LIST!$D$2:$D$1048576,,,COUNTIF([1]VALIDATION_LIST!$D:$D,"?*"))
Name Validation_List: OFFSET([2]VALIDATION_LIST!#REF!,,,COUNTIF([2]VALIDATION_LIST!$D:$D,"?*"))
Name Validation_List: OFFSET([1]VALIDATION_LIST!$D$2:$D$1048576,,,COUNTIF([1]VALIDATION_LIST!$D:$D,"?*"))
Name Validation_List: OFFSET([1]VALIDATION_LIST!$D$2:$D$1048576,,,COUNTIF([1]VALIDATION_LIST!$D:$D,"?*"))
Name Validation_List: OFFSET([2]VALIDATION_LIST!#REF!,,,COUNTIF([2]VALIDATION_LIST!$D:$D,"?*"))

Sheet 1A RFQ Note (Export 1 of 3)
B1: Sinopec Freight Forwarding RFQ Requirements
B2: Required Rates Validity: 01-JAN-2027 - 31-MAR-2027
B3: RFQ Important Note:
B4: 1 | C4: Rates must be valid for Three (3) months.
B5: 2 | C5: Sinopec prefers Direct vessel . If not available, please specify the transshipment route details, including the port of call, transshipment port, and transit days. For transshipment, the forwarder must provide updates twice a week, every Tuesday and Thursday, until the cargo reaches its destination.
B6: 3 | C6: The trade lane will be awarded based on the following criteria: A. Most competitive (lowest) bidding rate B. Availability of direct sailing C. Compliance with the required free time at both origin and destination ports
B7: 4 | C7: Destination freetime requirements: A minimum of 14 days destination freetime (Detention+Demurrage) with a preference for 14days combined.
B8: Reference:
B9: 1 | C9: 20ISO - 20'ISOTANK
B10: 2 | C10: POL FREEDAYS - Port of Loading Freetime (Days)
B11: 3 | C11: POD FREE DENT. - Port of Destination Detention Freetime (Days)
B12: 4 | C12: POD FREE DEM. - Port of Destination Demurrage Freetime (Days)
B13: 5 | C13: Freight rates inclusive of 1. Ocean freight rates 2. Inland trucking fee(only applies to Incoterms: CIP) 3. Terminal Handling Charge 4. Seal fee 5. AMS/ENS/CNS and etc Filling fee 6. IMO,Bunker fee, other additional surcharge such as PSS, GRI, Peak Season surcharge and etc 7. Rates must inclusive of ISOTANK rental, washing charges, clean cert and related charges.
B14: 6 | C14: Free Trade Agreement (FTA) Form *forms apply through the SG customs platform 1. Form D 2. Form E 3. RCEP 4. Preferential COO (Jordan, etc) 5. other forms that apply through SG customs platform
B15: 7 | C15: BL charges: Type of E-BL (Column P) : SWB or Telex Release *If the carrier cannot provide SWB, fill in the Telex BL fee (Column AB). *If Sinopec requests OBL, ensure the collection fee and delivery charges are included in the BL fee (Column AA).
B16: 8 | C16: BC Roll over or Cancellation charges: Sinopec do not accept BC Roll over or Cancellation charges. If there is any BC rollover or cancellation, instruction will be given by Sinopec at least 3days before ETA SIN.

Sheet 1B RFQ (Export 2 of 3)
A1: S/N | B1: POL | C1: AREA | D1: COUNTRY | E1: POD | F1: CTNR | G1: INCOTERMS | H1: PRICE EFFECTIVE DATE | I1: PRICE EXPIRY DATE | J1: SINOPEC REMARKS | K1: FORWARDER'S REMARKS | L1: CARRIER | M1: SHIPMENT TYPE *Priority: Direct | N1: S/WEEK | O1: TRANSIT DAYS | P1: TYPE OF eBL | Q1: POL FREEDAYS | R1: POD FREE DENT. | S1: POD FREE DEM. | T1: POD TOTAL FREEDAYS PREFER COMBINED 14 | U1: FTA COO | V1: SMF COO | W1: AFRICA CERTS | X1: TOTAL CHARGES | Y1: FREIGHT RATE | Z1: EXPORT PERMIT | AA1: BL FEE | AB1: TELEX BL FEE | AC1: $FTA COO | AD1: $SMF COO | AE1: $AFRICA CERTS
A2: 363P | B2: SINGAPORE | C2: 东亚 | D2: CHINA | E2: DALIAN | F2: 20ISO | G2: CIF | H2: 46388 | I2: 46477 | J2: Rates must inclusive of ISOTANK rental, washing charges, clean cert and related charges. | T2: =R2+S2 -> 0 | X2: =IF(Y2>0,SUM(Y2:AE2),"0") -> 0 | AB2: =IF(P2="TLX","fill in rates,REMOVE FORMULA IF NO FEE"," ") | AC2: =IF(U2="YES",'1C RFQ (Export 3 of 3)'!$D$5,"") | AD2: =IF(V2="YES",'1C RFQ (Export 3 of 3)'!$D$7,"")
A3: 364P | B3: SINGAPORE | C3: 东亚 | D3: CHINA | E3: FUZHOU | F3: 20ISO | G3: CIF | H3: 46388 | I3: 46477 | J3: Rates must inclusive of ISOTANK rental, washing charges, clean cert and related charges. | T3: =R3+S3 -> 0 | X3: =IF(Y3>0,SUM(Y3:AE3),"0") -> 0 | AB3: =IF(P3="TLX","fill in rates,REMOVE FORMULA IF NO FEE"," ") | AC3: =IF(U3="YES",'1C RFQ (Export 3 of 3)'!$D$5,"") | AD3: =IF(V3="YES",'1C RFQ (Export 3 of 3)'!$D$7,"")
A4: 365P | B4: SINGAPORE | C4: 东亚 | D4: CHINA | E4: JIANGYIN | F4: 20ISO | G4: CIF | H4: 46388 | I4: 46477 | J4: Rates must inclusive of ISOTANK rental, washing charges, clean cert and related charges. | T4: =R4+S4 -> 0 | X4: =IF(Y4>0,SUM(Y4:AE4),"0") -> 0 | AB4: =IF(P4="TLX","fill in rates,REMOVE FORMULA IF NO FEE"," ") | AC4: =IF(U4="YES",'1C RFQ (Export 3 of 3)'!$D$5,"") | AD4: =IF(V4="YES",'1C RFQ (Export 3 of 3)'!$D$7,"")
A5: 366P | B5: SINGAPORE | C5: 东亚 | D5: CHINA | E5: XINGANG | F5: 20ISO | G5: CIF | H5: 46388 | I5: 46477 | J5: Rates must inclusive of ISOTANK rental, washing charges, clean cert and related charges. | T5: =R5+S5 -> 0 | X5: =IF(Y5>0,SUM(Y5:AE5),"0") -> 0 | AB5: =IF(P5="TLX","fill in rates,REMOVE FORMULA IF NO FEE"," ") | AC5: =IF(U5="YES",'1C RFQ (Export 3 of 3)'!$D$5,"") | AD5: =IF(V5="YES",'1C RFQ (Export 3 of 3)'!$D$7,"")
A6: 367P | B6: SINGAPORE | C6: 东亚 | D6: CHINA | E6: QINGDAO | F6: 20ISO | G6: CIF | H6: 46388 | I6: 46477 | J6: Rates must inclusive of ISOTANK rental, washing charges, clean cert and related charges. | T6: =R6+S6 -> 0 | X6: =IF(Y6>0,SUM(Y6:AE6),"0") -> 0 | AB6: =IF(P6="TLX","fill in rates,REMOVE FORMULA IF NO FEE"," ") | AC6: =IF(U6="YES",'1C RFQ (Export 3 of 3)'!$D$5,"") | AD6: =IF(V6="YES",'1C RFQ (Export 3 of 3)'!$D$7,"")
A7: 368P | B7: SINGAPORE | C7: 东亚 | D7: CHINA | E7: NINGBO | F7: 20ISO | G7: CIF | H7: 46388 | I7: 46477 | J7: Rates must inclusive of ISOTANK rental, washing charges, clean cert and related charges. | T7: =R7+S7 -> 0 | X7: =IF(Y7>0,SUM(Y7:AE7),"0") -> 0 | AB7: =IF(P7="TLX","fill in rates,REMOVE FORMULA IF NO FEE"," ") | AC7: =IF(U7="YES",'1C RFQ (Export 3 of 3)'!$D$5,"") | AD7: =IF(V7="YES",'1C RFQ (Export 3 of 3)'!$D$7,"")
A8: 369P | B8: SINGAPORE | C8: 东亚 | D8: CHINA | E8: HUANGPU | F8: 20ISO | G8: CIF | H8: 46388 | I8: 46477 | J8: Rates must inclusive of ISOTANK rental, washing charges, clean cert and related charges. | T8: =R8+S8 -> 0 | X8: =IF(Y8>0,SUM(Y8:AE8),"0") -> 0 | AB8: =IF(P8="TLX","fill in rates,REMOVE FORMULA IF NO FEE"," ") | AC8: =IF(U8="YES",'1C RFQ (Export 3 of 3)'!$D$5,"") | AD8: =IF(V8="YES",'1C RFQ (Export 3 of 3)'!$D$7,"")
A9: 370P | B9: SINGAPORE | C9: 东亚 | D9: CHINA | E9: XIAMEN - HAICHANG | F9: 20ISO | G9: CIF | H9: 46388 | I9: 46477 | J9: Rates must inclusive of ISOTANK rental, washing charges, clean cert and related charges. | T9: =R9+S9 -> 0 | X9: =IF(Y9>0,SUM(Y9:AE9),"0") -> 0 | AB9: =IF(P9="TLX","fill in rates,REMOVE FORMULA IF NO FEE"," ") | AC9: =IF(U9="YES",'1C RFQ (Export 3 of 3)'!$D$5,"") | AD9: =IF(V9="YES",'1C RFQ (Export 3 of 3)'!$D$7,"")
A10: 371P | B10: SINGAPORE | C10: 东亚 | D10: CHINA | E10: SHANGHAI | F10: 20ISO | G10: CIF | H10: 46388 | I10: 46477 | J10: Rates must inclusive of ISOTANK rental, washing charges, clean cert and related charges. | T10: =R10+S10 -> 0 | X10: =IF(Y10>0,SUM(Y10:AE10),"0") -> 0 | AB10: =IF(P10="TLX","fill in rates,REMOVE FORMULA IF NO FEE"," ") | AC10: =IF(U10="YES",'1C RFQ (Export 3 of 3)'!$D$5,"") | AD10: =IF(V10="YES",'1C RFQ (Export 3 of 3)'!$D$7,"")
A11: 372P | B11: SINGAPORE | C11: 东亚 | D11: CHINA | E11: ZHOUSHAN | F11: 20ISO | G11: CIF | H11: 46388 | I11: 46477 | J11: Rates must inclusive of ISOTANK rental, washing charges, clean cert and related charges. | T11: =R11+S11 -> 0 | X11: =IF(Y11>0,SUM(Y11:AE11),"0") -> 0 | AB11: =IF(P11="TLX","fill in rates,REMOVE FORMULA IF NO FEE"," ") | AC11: =IF(U11="YES",'1C RFQ (Export 3 of 3)'!$D$5,"") | AD11: =IF(V11="YES",'1C RFQ (Export 3 of 3)'!$D$7,"")
A12: 373P | B12: SINGAPORE | C12: 东亚 | D12: CHINA | E12: TAIWAN - KEELUNG | F12: 20ISO | G12: CIF | H12: 46388 | I12: 46477 | J12: Rates must inclusive of ISOTANK rental, washing charges, clean cert and related charges. | T12: =R12+S12 -> 0 | X12: =IF(Y12>0,SUM(Y12:AE12),"0") -> 0 | AB12: =IF(P12="TLX","fill in rates,REMOVE FORMULA IF NO FEE"," ") | AC12: =IF(U12="YES",'1C RFQ (Export 3 of 3)'!$D$5,"") | AD12: =IF(V12="YES",'1C RFQ (Export 3 of 3)'!$D$7,"")
A13: 374P | B13: SINGAPORE | C13: 东亚 | D13: CHINA | E13: TAIWAN - TAIPEI | F13: 20ISO | G13: CIF | H13: 46388 | I13: 46477 | J13: Rates must inclusive of ISOTANK rental, washing charges, clean cert and related charges. | T13: =R13+S13 -> 0 | X13: =IF(Y13>0,SUM(Y13:AE13),"0") -> 0 | AB13: =IF(P13="TLX","fill in rates,REMOVE FORMULA IF NO FEE"," ") | AC13: =IF(U13="YES",'1C RFQ (Export 3 of 3)'!$D$5,"") | AD13: =IF(V13="YES",'1C RFQ (Export 3 of 3)'!$D$7,"")
... A31: 580P | B31: SINGAPORE | C31: 东南亚 | D31: VIETNAM | E31: HAIPHONG | F31: 20ISO | G31: CIF | H31: 46388 | I31: 46477 | J31: Direct sailing only. Do not offer transshipment 1. Rates must inclusive of ISOTANK rental, washing charges, clean cert and related charges. 2. 14days combined DND | T31: =R31+S31 -> 0 | X31: =IF(Y31>0,SUM(Y31:AE31),"0") -> 0 | AB31: =IF(P31="TLX","fill in rates,REMOVE FORMULA IF NO FEE"," ") | AC31: =IF(U31="YES",'1C RFQ (Export 3 of 3)'!$D$5,"") | AD31: =IF(V31="YES",'1C RFQ (Export 3 of 3)'!$D$7,"")

Sheet 1C RFQ (Export 3 of 3)
A1: DOCUMENTATION AND AD-HOC CHARGES:(applies to all incoterms)
B2: Ad-hoc Charges: | C2: UOM | D2: Currency (USD)
A3: 1 | B3: Additional Bullet Seal | C3: per unit | D3: FILL IN
B4: Free Trade Agreement (FTA) COO Form *forms that apply through SG customs platform 1. Form D 2. Form E 3. RCEP 4. Preferential COO (Jordan, etc) 5. other forms that apply through SG customs platform | D4: (USD)
A5: 2 | B5: E-FTA COO Handling Fee *Hardcopy FORM is not required unless requested by Sinopec. *courier of docs is not required. | C5: per set | D5: FILL IN
A6: 3 | B6: Original FTA COO Handling Fee *Hardcopy Form is required. Rates inclusive of courier fee. | C6: per set | D6: FILL IN
A7: 4 | B7: SMF COO Handling Fee *Rates inclusive of 2 trips of courrier arrangement. * if extra COO sets (China or other countries) | C7: per set | D7: FILL IN
A8: 5 | B8: SMF COO Handling Fee (Additional set) Since the courier fee is already included in the first set of the COO, this charge applies when Sinopec requests additional COO sets from other originating countries (e.g., China, etc.). | C8: per set | D8: FILL IN
A9: 6 | B9: Courier Service - Additional Trip *upon Sinopec request only | C9: per trip | D9: FILL IN

Sheet 2 Trucking fee
B2: Trucking Charges
B3: Required Rates Validity: 01-JAN-2027 - 31-DEC-2028
B5: Fee Description | C5: Currency | D5: 20'ISOTANK (Unit price)
B6: Trucking Cost (All-In)
B7: Trucking Cost (All-In) – Fixed for a Two-Year Period | C7: USD | D7: =SUM(D8:D14) -> 0
B8: Round Trip | C8: USD
B9: PSA LOLO | C9: USD
B10: Portnet Process Fee (Export) | C10: USD
B11: CMS (Container Management System) | C11: USD
B12: Fuel Surcharge | C12: USD
B13: Depot Admin/Documentation Fee | C13: USD
B14: Depot Handling Charge (Export) | C14: USD
B15: Additional Charges:
B16: Additional Empty Trip | C16: USD
B17: Additional Laden Trip | C17: USD
B18: Trucking To Laden Container Yard | C18: USD
B19: LOLO At Laden Container Yard | C19: USD
B20: Yard Storage (Per Day) | C20: USD

Sheet 3 ISOTANK Equipment Leasing
A1: ISOTANK Equipment lease quotation
A2: Required Rates Validity: 01-JAN-2027 - 31-DEC-2028
A4: Fee Description | B4: Currency | C4: 20'ISOTANK (Unit price)
A5: (A) Port of Discharge: Laem Chabang | B5: USD | C5: =SUM(C6:C10) -> 0
A6: Lease Rate (per day) | B6: USD
A7: Singapore Depot LOLO (per lift) | B7: USD
A8: Laem Chabang Depot LOLO (per lift) | B8: USD
A9: Clean Cert (per container) | B9: USD
A10: Tank Cleaning Charges (per container) | B10: USD
